BEGIN:VCALENDAR
VERSION:2.0
PRODID:-//eventon.com NONSGML v1.0//EN
CALSCALE:GREGORIAN
METHOD:PUBLISH
BEGIN:VEVENT
UID:69e5f1295d8d7
DTSTAMP:20260420T092601Z
DTSTART:20260202T090000Z
DTEND:20260221T230000Z
LOCATION:
SUMMARY:Semesterferien
DESCRIPTION:Semesterferien\nhttps://ehealth-graz.at/events/semesterferien/
URL:https://ehealth-graz.at/events/semesterferien/
END:VEVENT
END:VCALENDAR