BEGIN:VCALENDAR
VERSION:2.0
PRODID:-//eventon.com NONSGML v1.0//EN
CALSCALE:GREGORIAN
METHOD:PUBLISH
BEGIN:VEVENT
UID:69e5f17198d08
DTSTAMP:20260420T092713Z
DTSTART:20260128
DTEND:20260129
LOCATION:
SUMMARY:Bachelorprojekte Prüfungstermin 1a
DESCRIPTION:Erste Abgabemöglichkeit der Bachelorprojekte\nhttps://ehealth-
 graz.at/events/bachelorprojekte-pruefungstermin-1a/
URL:https://ehealth-graz.at/events/bachelorprojekte-pruefungstermin-1a/
END:VEVENT
END:VCALENDAR