BEGIN:VCALENDAR
VERSION:2.0
PRODID:-//eventon.com NONSGML v1.0//EN
CALSCALE:GREGORIAN
METHOD:PUBLISH
BEGIN:VEVENT
UID:69e5f12962aeb
DTSTAMP:20260420T092601Z
DTSTART:20250908
DTEND:20250909
LOCATION:
SUMMARY:Bachelor- Masterabschlussprüfung: Anmeldung für Haupttermin
DESCRIPTION:Voraussetzungen: positiv absolvierte LV und positiv abgeschloss
 ene Abschlussarbeit; Frist zum Hochladen der abgenommenen Endfassung in JOA
 NNEUMonline; bei Sperre: Abgabe Sperre-Formular und Hochladen JOANNEUMonlin
 e\nhttps://ehealth-graz.at/events/bachelor-masterabschlusspruefung-anmeldun
 g-haupttermin/
URL:https://ehealth-graz.at/events/bachelor-masterabschlusspruefung-anmeldung-haupttermin/
END:VEVENT
END:VCALENDAR