BEGIN:VCALENDAR
VERSION:2.0
PRODID:-//eventon.com NONSGML v1.0//EN
CALSCALE:GREGORIAN
METHOD:PUBLISH
BEGIN:VEVENT
UID:69e5f15d0c710
DTSTAMP:20260420T092653Z
DTSTART:20260529
DTEND:20260530
LOCATION:
SUMMARY:Bachelor- & Masterprojekt-Themen: Einreichung von Vorschlägen durch Studierende
DESCRIPTION:Studierende der Jahrgänge GEB24 bzw. EHT25 können bis zu dies
 em Tag Themen für ihre Bachelor- bzw. Masterprojekte im kommenden Semester
  (WS 25/26) einreichen.\nhttps://ehealth-graz.at/events/bachelor-master-pro
 jektthemen-einreichung-vorschlaege/
URL:https://ehealth-graz.at/events/bachelor-master-projektthemen-einreichung-vorschlaege/
END:VEVENT
END:VCALENDAR