BEGIN:VCALENDAR
VERSION:2.0
PRODID:-//eventon.com NONSGML v1.0//EN
CALSCALE:GREGORIAN
METHOD:PUBLISH
BEGIN:VEVENT
UID:69e608bbaf743
DTSTAMP:20260420T110635Z
DTSTART:20260330
DTEND:20260331
LOCATION:
SUMMARY:Osterferien 2026
DESCRIPTION:Wir wünschen ein frohes Osterfest und erholsame Tage! &nbsp;\n
 https://ehealth-graz.at/events/osterferien/
URL:https://ehealth-graz.at/events/osterferien/
END:VEVENT
END:VCALENDAR