BEGIN:VCALENDAR
VERSION:2.0
PRODID:-//eventon.com NONSGML v1.0//EN
CALSCALE:GREGORIAN
METHOD:PUBLISH
BEGIN:VEVENT
UID:69e5f14f185db
DTSTAMP:20260420T092639Z
DTSTART:20260417
DTEND:20260418
LOCATION:Institut eHealth Hörsaal 03 Eckertstraße 30i
SUMMARY:Erstes Kolloquium
DESCRIPTION:Genaue Uhrzeit wird via Stundenplan rechtzeitig bekannt gegeben
 \nhttps://ehealth-graz.at/events/erstes-kolloquium/
URL:https://ehealth-graz.at/events/erstes-kolloquium/
END:VEVENT
END:VCALENDAR