BEGIN:VCALENDAR
VERSION:2.0
PRODID:-//eventon.com NONSGML v1.0//EN
CALSCALE:GREGORIAN
METHOD:PUBLISH
BEGIN:VEVENT
UID:69e5f14f18613
DTSTAMP:20260420T092639Z
DTSTART:20260304T120000Z
DTEND:20260304T150000Z
LOCATION:Institut eHealth Hörsaal 03 Eckertstraße 30i
SUMMARY:Masterprojekt Präsentationen 2026
DESCRIPTION:Der Jahrgang EHT24 präsentiert seine Masterprojekte vor dem Na
 chfolge-Jahrgang EHT25 und Teilen des Lehrkörpers.\nhttps://ehealth-graz.a
 t/events/masterprojekt-praesentationen/
URL:https://ehealth-graz.at/events/masterprojekt-praesentationen/
END:VEVENT
END:VCALENDAR