BEGIN:VCALENDAR
VERSION:2.0
PRODID:-//eventon.com NONSGML v1.0//EN
CALSCALE:GREGORIAN
METHOD:PUBLISH
BEGIN:VEVENT
UID:69e5f15d12a4e
DTSTAMP:20260420T092653Z
DTSTART:20260223
DTEND:20260224
LOCATION:
SUMMARY:Beginn Sommersemester 2026
DESCRIPTION:Beginn Sommersemester 2026\nhttps://ehealth-graz.at/events/begi
 nn-sommersemester/
URL:https://ehealth-graz.at/events/beginn-sommersemester/
END:VEVENT
END:VCALENDAR