BEGIN:VCALENDAR
VERSION:2.0
PRODID:-//eventon.com NONSGML v1.0//EN
CALSCALE:GREGORIAN
METHOD:PUBLISH
BEGIN:VEVENT
UID:69e6046fc5d6f
DTSTAMP:20260420T104815Z
DTSTART:20230706T070000Z
DTEND:20230707T120000Z
LOCATION:Der KLUGBAUER Fallegg 28\,  8563 St. Stefan ob Stainz
SUMMARY:Strategieklausur 2023
DESCRIPTION:Die diesjährige Strategieklausur wird vom 06.-07. Juli 2023 st
 attfinden\,  mit dem Thema „Überarbeitung der Curricula“ ab WS25/26. A
 uch dieses Jahr werden wieder externe Lehrende teilnehmen. Folgende wurde e
 ingeladen und haben bereits zugesagt: Herr Altmann wird in gewohnter Profes
 sionalität die Moderation übernehmen. Zusätzliche werden Herr Gaube\,  H
 err Halmerbauer und Herr Sprenger[..]\nhttps://ehealth-graz.at/events/strat
 egieklausur-2023/
URL:https://ehealth-graz.at/events/strategieklausur-2023/
END:VEVENT
END:VCALENDAR