BEGIN:VCALENDAR
VERSION:2.0
PRODID:-//eventon.com NONSGML v1.0//EN
CALSCALE:GREGORIAN
METHOD:PUBLISH
BEGIN:VEVENT
UID:69e6047f810ee
DTSTAMP:20260420T104831Z
DTSTART:20230227T080000Z
DTEND:20231001T070000Z
LOCATION:Institut eHealth Eckertstraße 30i
SUMMARY:Sommersemester 23
DESCRIPTION:Sommersemester 23\nhttps://ehealth-graz.at/events/sommersemeste
 r-23/
URL:https://ehealth-graz.at/events/sommersemester-23/
END:VEVENT
END:VCALENDAR